Package: benchdamic Version: 1.12.2 Command: F:\biocbuild\bbs-3.20-bioc\R\bin\R.exe CMD check --no-multiarch --install=check:benchdamic.install-out.txt --library=F:\biocbuild\bbs-3.20-bioc\R\library --no-vignettes --timings benchdamic_1.12.2.tar.gz StartedAt: 2025-02-03 23:25:50 -0500 (Mon, 03 Feb 2025) EndedAt: 2025-02-03 23:45:46 -0500 (Mon, 03 Feb 2025) EllapsedTime: 1195.3 seconds RetCode: 0 Status: OK CheckDir: benchdamic.Rcheck Warnings: 0