Package: benchdamic Version: 1.12.2 Command: F:\biocbuild\bbs-3.20-bioc\R\bin\R.exe CMD INSTALL benchdamic StartedAt: 2025-02-10 16:52:12 -0500 (Mon, 10 Feb 2025) EndedAt: 2025-02-10 16:54:02 -0500 (Mon, 10 Feb 2025) EllapsedTime: 110.3 seconds RetCode: 0 Status: OK