Package: benchdamic Version: 1.12.2 Command: /home/biocbuild/R/R/bin/R CMD check --install=check:benchdamic.install-out.txt --library=/home/biocbuild/R/R/site-library --no-vignettes --timings benchdamic_1.12.2.tar.gz StartedAt: 2025-02-04 04:40:45 -0000 (Tue, 04 Feb 2025) EndedAt: 2025-02-04 05:05:49 -0000 (Tue, 04 Feb 2025) EllapsedTime: 1503.1 seconds RetCode: 1 Status: ERROR CheckDir: benchdamic.Rcheck Warnings: NA