Package: benchdamic Version: 1.12.2 Command: /home/biocbuild/R/R/bin/R CMD INSTALL benchdamic StartedAt: 2025-02-03 21:14:19 -0000 (Mon, 03 Feb 2025) EndedAt: 2025-02-03 21:15:45 -0000 (Mon, 03 Feb 2025) EllapsedTime: 86.2 seconds RetCode: 0 Status: OK