Package: betaHMM Version: 1.2.1 Command: /Library/Frameworks/R.framework/Resources/bin/R CMD build --keep-empty-dirs --no-resave-data betaHMM StartedAt: 2025-02-03 17:16:33 -0500 (Mon, 03 Feb 2025) EndedAt: 2025-02-03 17:29:35 -0500 (Mon, 03 Feb 2025) EllapsedTime: 782.3 seconds RetCode: 0 Status: OK PackageFile: betaHMM_1.2.1.tar.gz PackageFileSize: 3.834 MiB