Package: betaHMM Version: 1.2.1 Command: /home/biocbuild/bbs-3.20-bioc/R/bin/R CMD build --keep-empty-dirs --no-resave-data --md5 betaHMM StartedAt: 2025-02-10 16:21:36 -0500 (Mon, 10 Feb 2025) EndedAt: 2025-02-10 16:26:02 -0500 (Mon, 10 Feb 2025) EllapsedTime: 266.2 seconds RetCode: 0 Status: OK PackageFile: betaHMM_1.2.1.tar.gz PackageFileSize: 3.843 MiB