Package: betaHMM Version: 1.2.1 Command: /home/biocbuild/R/R/bin/R CMD build --keep-empty-dirs --no-resave-data betaHMM StartedAt: 2025-02-03 21:53:05 -0000 (Mon, 03 Feb 2025) EndedAt: 2025-02-03 21:59:32 -0000 (Mon, 03 Feb 2025) EllapsedTime: 387.1 seconds RetCode: 0 Status: OK PackageFile: betaHMM_1.2.1.tar.gz PackageFileSize: 3.571 MiB