Package: bettr Version: 1.2.0 Command: rm -rf bettr.buildbin-libdir && mkdir bettr.buildbin-libdir && /Users/biocbuild/BBS/utils/build-universal.sh bettr_1.2.0.tar.gz /Library/Frameworks/R.framework/Resources/bin/R bettr.buildbin-libdir StartedAt: 2025-02-05 14:56:32 -0500 (Wed, 05 Feb 2025) EndedAt: 2025-02-05 14:57:07 -0500 (Wed, 05 Feb 2025) EllapsedTime: 35.3 seconds RetCode: 0 Status: OK PackageFile: bettr_1.2.0.tgz PackageFileSize: 1.728 MiB