Package: bettr Version: 1.2.0 Command: /Library/Frameworks/R.framework/Resources/bin/R CMD build --keep-empty-dirs --no-resave-data bettr StartedAt: 2025-02-03 17:16:34 -0500 (Mon, 03 Feb 2025) EndedAt: 2025-02-03 17:18:15 -0500 (Mon, 03 Feb 2025) EllapsedTime: 101.5 seconds RetCode: 0 Status: OK PackageFile: bettr_1.2.0.tar.gz PackageFileSize: 2.582 MiB