Package: bettr Version: 1.2.0 Command: /Library/Frameworks/R.framework/Resources/bin/R CMD INSTALL bettr StartedAt: 2025-02-03 16:06:55 -0500 (Mon, 03 Feb 2025) EndedAt: 2025-02-03 16:07:52 -0500 (Mon, 03 Feb 2025) EllapsedTime: 56.9 seconds RetCode: 0 Status: OK