Package: bettr Version: 1.2.0 Command: /home/biocbuild/R/R/bin/R CMD build --keep-empty-dirs --no-resave-data bettr StartedAt: 2025-02-03 21:53:34 -0000 (Mon, 03 Feb 2025) EndedAt: 2025-02-03 21:54:25 -0000 (Mon, 03 Feb 2025) EllapsedTime: 51.0 seconds RetCode: 0 Status: OK PackageFile: bettr_1.2.0.tar.gz PackageFileSize: 2.431 MiB