Package: bgx Version: 1.72.0 Command: rm -rf bgx.buildbin-libdir && mkdir bgx.buildbin-libdir && F:\biocbuild\bbs-3.20-bioc\R\bin\R.exe CMD INSTALL --build --library=bgx.buildbin-libdir bgx_1.72.0.tar.gz StartedAt: 2025-02-04 08:02:16 -0500 (Tue, 04 Feb 2025) EndedAt: 2025-02-04 08:05:01 -0500 (Tue, 04 Feb 2025) EllapsedTime: 165.2 seconds RetCode: 0 Status: OK PackageFile: bgx_1.72.0.zip PackageFileSize: 536.3 KiB