Package: bgx Version: 1.72.0 Command: chmod a+r bgx -R && F:\biocbuild\bbs-3.20-bioc\R\bin\R.exe CMD build --keep-empty-dirs --no-resave-data bgx StartedAt: 2025-02-03 17:41:20 -0500 (Mon, 03 Feb 2025) EndedAt: 2025-02-03 17:45:08 -0500 (Mon, 03 Feb 2025) EllapsedTime: 228.2 seconds RetCode: 0 Status: OK PackageFile: bgx_1.72.0.tar.gz PackageFileSize: 4.83 MiB