Package: bgx Version: 1.72.0 Command: /home/biocbuild/R/R/bin/R CMD build --keep-empty-dirs --no-resave-data bgx StartedAt: 2025-02-10 21:41:31 -0000 (Mon, 10 Feb 2025) EndedAt: 2025-02-10 21:42:28 -0000 (Mon, 10 Feb 2025) EllapsedTime: 57.0 seconds RetCode: 0 Status: OK PackageFile: bgx_1.72.0.tar.gz PackageFileSize: 2.614 MiB