Package: bigmelon Version: 1.32.0 Command: /Library/Frameworks/R.framework/Resources/bin/R CMD build --keep-empty-dirs --no-resave-data bigmelon StartedAt: 2025-02-03 19:24:32 -0500 (Mon, 03 Feb 2025) EndedAt: 2025-02-03 19:26:11 -0500 (Mon, 03 Feb 2025) EllapsedTime: 98.7 seconds RetCode: 0 Status: OK PackageFile: bigmelon_1.32.0.tar.gz PackageFileSize: 901.3 KiB