Package: bigmelon Version: 1.32.0 Command: /Library/Frameworks/R.framework/Resources/bin/R CMD check --install=check:bigmelon.install-out.txt --library=/Library/Frameworks/R.framework/Resources/library --no-vignettes --timings bigmelon_1.32.0.tar.gz StartedAt: 2025-02-04 12:29:11 -0500 (Tue, 04 Feb 2025) EndedAt: 2025-02-04 12:36:45 -0500 (Tue, 04 Feb 2025) EllapsedTime: 454.8 seconds RetCode: 0 Status: WARNINGS CheckDir: bigmelon.Rcheck Warnings: 5