Package: bigmelon Version: 1.32.0 Command: /Library/Frameworks/R.framework/Resources/bin/R CMD INSTALL bigmelon StartedAt: 2025-02-03 18:02:53 -0500 (Mon, 03 Feb 2025) EndedAt: 2025-02-03 18:03:56 -0500 (Mon, 03 Feb 2025) EllapsedTime: 63.8 seconds RetCode: 0 Status: OK