Package: bigmelon Version: 1.32.0 Command: rm -rf bigmelon.buildbin-libdir && mkdir bigmelon.buildbin-libdir && /Users/biocbuild/BBS/utils/build-universal.sh bigmelon_1.32.0.tar.gz /Library/Frameworks/R.framework/Resources/bin/R bigmelon.buildbin-libdir StartedAt: 2025-02-04 12:31:31 -0500 (Tue, 04 Feb 2025) EndedAt: 2025-02-04 12:33:28 -0500 (Tue, 04 Feb 2025) EllapsedTime: 116.6 seconds RetCode: 0 Status: OK PackageFile: bigmelon_1.32.0.tgz PackageFileSize: 1.202 MiB