Package: bigmelon Version: 1.32.0 Command: /home/biocbuild/bbs-3.20-bioc/R/bin/R CMD build --keep-empty-dirs --no-resave-data --md5 bigmelon StartedAt: 2025-02-10 16:23:24 -0500 (Mon, 10 Feb 2025) EndedAt: 2025-02-10 16:24:38 -0500 (Mon, 10 Feb 2025) EllapsedTime: 74.0 seconds RetCode: 0 Status: OK PackageFile: bigmelon_1.32.0.tar.gz PackageFileSize: 903.2 KiB