Package: bigmelon Version: 1.32.0 Command: rm -rf bigmelon.buildbin-libdir && mkdir bigmelon.buildbin-libdir && F:\biocbuild\bbs-3.20-bioc\R\bin\R.exe CMD INSTALL --build --library=bigmelon.buildbin-libdir bigmelon_1.32.0.tar.gz StartedAt: 2025-02-04 08:02:23 -0500 (Tue, 04 Feb 2025) EndedAt: 2025-02-04 08:04:15 -0500 (Tue, 04 Feb 2025) EllapsedTime: 111.6 seconds RetCode: 0 Status: OK PackageFile: bigmelon_1.32.0.zip PackageFileSize: 1.206 MiB