Package: bigmelon Version: 1.32.0 Command: chmod a+r bigmelon -R && F:\biocbuild\bbs-3.20-bioc\R\bin\R.exe CMD build --keep-empty-dirs --no-resave-data bigmelon StartedAt: 2025-02-03 17:42:19 -0500 (Mon, 03 Feb 2025) EndedAt: 2025-02-03 17:44:21 -0500 (Mon, 03 Feb 2025) EllapsedTime: 122.1 seconds RetCode: 0 Status: OK PackageFile: bigmelon_1.32.0.tar.gz PackageFileSize: 902.4 KiB