Package: bigmelon Version: 1.32.0 Command: /home/biocbuild/R/R/bin/R CMD build --keep-empty-dirs --no-resave-data bigmelon StartedAt: 2025-02-03 21:58:14 -0000 (Mon, 03 Feb 2025) EndedAt: 2025-02-03 21:59:45 -0000 (Mon, 03 Feb 2025) EllapsedTime: 91.0 seconds RetCode: 0 Status: OK PackageFile: bigmelon_1.32.0.tar.gz PackageFileSize: 894.4 KiB