Package: bioCancer Version: 1.34.0 Command: rm -rf bioCancer.buildbin-libdir && mkdir bioCancer.buildbin-libdir && /Users/biocbuild/BBS/utils/build-universal.sh bioCancer_1.34.0.tar.gz /Library/Frameworks/R.framework/Resources/bin/R bioCancer.buildbin-libdir StartedAt: 2025-01-31 12:24:06 -0500 (Fri, 31 Jan 2025) EndedAt: 2025-01-31 12:26:06 -0500 (Fri, 31 Jan 2025) EllapsedTime: 120.6 seconds RetCode: 0 Status: OK PackageFile: bioCancer_1.34.0.tgz PackageFileSize: 7.418 MiB