Package: bioCancer Version: 1.34.0 Command: /Library/Frameworks/R.framework/Resources/bin/R CMD build --keep-empty-dirs --no-resave-data bioCancer StartedAt: 2025-01-30 17:24:58 -0500 (Thu, 30 Jan 2025) EndedAt: 2025-01-30 17:27:21 -0500 (Thu, 30 Jan 2025) EllapsedTime: 143.1 seconds RetCode: 0 Status: OK PackageFile: bioCancer_1.34.0.tar.gz PackageFileSize: 9.457 MiB