Package: bioCancer Version: 1.34.0 Command: /home/biocbuild/bbs-3.20-bioc/R/bin/R CMD build --keep-empty-dirs --no-resave-data --md5 bioCancer StartedAt: 2025-02-03 16:32:01 -0500 (Mon, 03 Feb 2025) EndedAt: 2025-02-03 16:32:55 -0500 (Mon, 03 Feb 2025) EllapsedTime: 54.0 seconds RetCode: 0 Status: OK PackageFile: bioCancer_1.34.0.tar.gz PackageFileSize: 9.465 MiB