Package: bioCancer Version: 1.34.0 Command: /home/biocbuild/bbs-3.20-bioc/R/bin/R CMD INSTALL bioCancer StartedAt: 2025-02-03 16:03:56 -0500 (Mon, 03 Feb 2025) EndedAt: 2025-02-03 16:04:56 -0500 (Mon, 03 Feb 2025) EllapsedTime: 60.1 seconds RetCode: 0 Status: OK