Package: bioCancer Version: 1.34.0 Command: /home/biocbuild/R/R/bin/R CMD build --keep-empty-dirs --no-resave-data bioCancer StartedAt: 2025-02-03 21:59:56 -0000 (Mon, 03 Feb 2025) EndedAt: 2025-02-03 22:01:03 -0000 (Mon, 03 Feb 2025) EllapsedTime: 67.0 seconds RetCode: 0 Status: OK PackageFile: bioCancer_1.34.0.tar.gz PackageFileSize: 9.459 MiB