Package: bioCancer Version: 1.34.0 Command: /home/biocbuild/R/R/bin/R CMD INSTALL bioCancer StartedAt: 2025-02-03 21:17:54 -0000 (Mon, 03 Feb 2025) EndedAt: 2025-02-03 21:19:02 -0000 (Mon, 03 Feb 2025) EllapsedTime: 68.0 seconds RetCode: 0 Status: OK