Package: bioDist Version: 1.78.0 Command: /Library/Frameworks/R.framework/Resources/bin/R CMD build --keep-empty-dirs --no-resave-data bioDist StartedAt: 2025-02-03 17:26:01 -0500 (Mon, 03 Feb 2025) EndedAt: 2025-02-03 17:26:49 -0500 (Mon, 03 Feb 2025) EllapsedTime: 47.8 seconds RetCode: 0 Status: OK PackageFile: bioDist_1.78.0.tar.gz PackageFileSize: 204.7 KiB