Package: bioDist Version: 1.78.0 Command: /home/biocbuild/bbs-3.20-bioc/R/bin/R CMD check --install=check:bioDist.install-out.txt --library=/home/biocbuild/bbs-3.20-bioc/R/site-library --timings bioDist_1.78.0.tar.gz StartedAt: 2025-02-03 20:27:58 -0500 (Mon, 03 Feb 2025) EndedAt: 2025-02-03 20:28:33 -0500 (Mon, 03 Feb 2025) EllapsedTime: 35.0 seconds RetCode: 0 Status: OK CheckDir: bioDist.Rcheck Warnings: 0