Package: bioDist Version: 1.78.0 Command: /home/biocbuild/bbs-3.20-bioc/R/bin/R CMD INSTALL bioDist StartedAt: 2025-02-03 15:14:03 -0500 (Mon, 03 Feb 2025) EndedAt: 2025-02-03 15:14:17 -0500 (Mon, 03 Feb 2025) EllapsedTime: 13.8 seconds RetCode: 0 Status: OK