Package: bioDist Version: 1.78.0 Command: rm -rf bioDist.buildbin-libdir && mkdir bioDist.buildbin-libdir && F:\biocbuild\bbs-3.20-bioc\R\bin\R.exe CMD INSTALL --build --library=bioDist.buildbin-libdir bioDist_1.78.0.tar.gz StartedAt: 2025-02-11 08:01:12 -0500 (Tue, 11 Feb 2025) EndedAt: 2025-02-11 08:01:27 -0500 (Tue, 11 Feb 2025) EllapsedTime: 14.7 seconds RetCode: 0 Status: OK PackageFile: bioDist_1.78.0.zip PackageFileSize: 167.3 KiB