Package: bioDist Version: 1.78.0 Command: /home/biocbuild/R/R/bin/R CMD check --install=check:bioDist.install-out.txt --library=/home/biocbuild/R/R/site-library --no-vignettes --timings bioDist_1.78.0.tar.gz StartedAt: 2025-02-11 04:16:04 -0000 (Tue, 11 Feb 2025) EndedAt: 2025-02-11 04:16:44 -0000 (Tue, 11 Feb 2025) EllapsedTime: 40.1 seconds RetCode: 0 Status: OK CheckDir: bioDist.Rcheck Warnings: 0