Package: bioassayR Version: 1.44.0 Command: /Library/Frameworks/R.framework/Resources/bin/R CMD check --install=check:bioassayR.install-out.txt --library=/Library/Frameworks/R.framework/Resources/library --no-vignettes --timings bioassayR_1.44.0.tar.gz StartedAt: 2025-02-11 12:21:52 -0500 (Tue, 11 Feb 2025) EndedAt: 2025-02-11 12:23:20 -0500 (Tue, 11 Feb 2025) EllapsedTime: 87.8 seconds RetCode: 1 Status: ERROR CheckDir: bioassayR.Rcheck Warnings: NA