Package: bioassayR Version: 1.44.0 Command: /Library/Frameworks/R.framework/Resources/bin/R CMD INSTALL bioassayR StartedAt: 2025-02-10 18:02:26 -0500 (Mon, 10 Feb 2025) EndedAt: 2025-02-10 18:02:40 -0500 (Mon, 10 Feb 2025) EllapsedTime: 13.9 seconds RetCode: 0 Status: OK