Package: bioassayR Version: 1.44.0 Command: /home/biocbuild/bbs-3.20-bioc/R/bin/R CMD build --keep-empty-dirs --no-resave-data --md5 bioassayR StartedAt: 2025-02-03 16:31:04 -0500 (Mon, 03 Feb 2025) EndedAt: 2025-02-03 16:31:45 -0500 (Mon, 03 Feb 2025) EllapsedTime: 41.0 seconds RetCode: 0 Status: OK PackageFile: bioassayR_1.44.0.tar.gz PackageFileSize: 1.487 MiB