Package: bioassayR Version: 1.44.0 Command: /home/biocbuild/bbs-3.20-bioc/R/bin/R CMD INSTALL bioassayR StartedAt: 2025-02-10 15:58:28 -0500 (Mon, 10 Feb 2025) EndedAt: 2025-02-10 15:58:39 -0500 (Mon, 10 Feb 2025) EllapsedTime: 11.4 seconds RetCode: 0 Status: OK