Package: bioassayR Version: 1.44.0 Command: rm -rf bioassayR.buildbin-libdir && mkdir bioassayR.buildbin-libdir && F:\biocbuild\bbs-3.20-bioc\R\bin\R.exe CMD INSTALL --build --library=bioassayR.buildbin-libdir bioassayR_1.44.0.tar.gz StartedAt: 2025-02-04 08:02:27 -0500 (Tue, 04 Feb 2025) EndedAt: 2025-02-04 08:04:13 -0500 (Tue, 04 Feb 2025) EllapsedTime: 106.0 seconds RetCode: 0 Status: OK PackageFile: bioassayR_1.44.0.zip PackageFileSize: 991.7 KiB