Package: bioassayR Version: 1.44.0 Command: chmod a+r bioassayR -R && F:\biocbuild\bbs-3.20-bioc\R\bin\R.exe CMD build --keep-empty-dirs --no-resave-data bioassayR StartedAt: 2025-02-03 17:43:15 -0500 (Mon, 03 Feb 2025) EndedAt: 2025-02-03 17:45:12 -0500 (Mon, 03 Feb 2025) EllapsedTime: 117.2 seconds RetCode: 0 Status: OK PackageFile: bioassayR_1.44.0.tar.gz PackageFileSize: 1.243 MiB