Package: bioassayR Version: 1.44.0 Command: F:\biocbuild\bbs-3.20-bioc\R\bin\R.exe CMD INSTALL bioassayR StartedAt: 2025-02-03 16:20:39 -0500 (Mon, 03 Feb 2025) EndedAt: 2025-02-03 16:21:19 -0500 (Mon, 03 Feb 2025) EllapsedTime: 40.3 seconds RetCode: 0 Status: OK