Package: biobroom Version: 1.38.0 Command: rm -rf biobroom.buildbin-libdir && mkdir biobroom.buildbin-libdir && /Users/biocbuild/BBS/utils/build-universal.sh biobroom_1.38.0.tar.gz /Library/Frameworks/R.framework/Resources/bin/R biobroom.buildbin-libdir StartedAt: 2025-02-04 12:31:51 -0500 (Tue, 04 Feb 2025) EndedAt: 2025-02-04 12:32:04 -0500 (Tue, 04 Feb 2025) EllapsedTime: 12.7 seconds RetCode: 0 Status: OK PackageFile: biobroom_1.38.0.tgz PackageFileSize: 915.3 KiB