Package: biobroom Version: 1.38.0 Command: chmod a+r biobroom -R && F:\biocbuild\bbs-3.20-bioc\R\bin\R.exe CMD build --keep-empty-dirs --no-resave-data biobroom StartedAt: 2025-02-03 17:43:47 -0500 (Mon, 03 Feb 2025) EndedAt: 2025-02-03 17:45:06 -0500 (Mon, 03 Feb 2025) EllapsedTime: 79.0 seconds RetCode: 0 Status: OK PackageFile: biobroom_1.38.0.tar.gz PackageFileSize: 372.1 KiB