Package: biobroom Version: 1.38.0 Command: /home/biocbuild/R/R/bin/R CMD build --keep-empty-dirs --no-resave-data biobroom StartedAt: 2025-02-03 21:59:45 -0000 (Mon, 03 Feb 2025) EndedAt: 2025-02-03 22:00:45 -0000 (Mon, 03 Feb 2025) EllapsedTime: 60.0 seconds RetCode: 0 Status: OK PackageFile: biobroom_1.38.0.tar.gz PackageFileSize: 345.6 KiB