Package: biobroom Version: 1.38.0 Command: /home/biocbuild/R/R/bin/R CMD INSTALL biobroom StartedAt: 2025-02-03 20:26:30 -0000 (Mon, 03 Feb 2025) EndedAt: 2025-02-03 20:26:56 -0000 (Mon, 03 Feb 2025) EllapsedTime: 25.2 seconds RetCode: 0 Status: OK