Package: biobtreeR Version: 1.18.0 Command: /home/biocbuild/bbs-3.20-bioc/R/bin/R CMD check --install=check:biobtreeR.install-out.txt --library=/home/biocbuild/bbs-3.20-bioc/R/site-library --timings biobtreeR_1.18.0.tar.gz StartedAt: 2025-02-03 20:23:34 -0500 (Mon, 03 Feb 2025) EndedAt: 2025-02-03 20:24:46 -0500 (Mon, 03 Feb 2025) EllapsedTime: 72.1 seconds RetCode: 0 Status: OK CheckDir: biobtreeR.Rcheck Warnings: 0