Package: biobtreeR Version: 1.18.0 Command: rm -rf biobtreeR.buildbin-libdir && mkdir biobtreeR.buildbin-libdir && F:\biocbuild\bbs-3.20-bioc\R\bin\R.exe CMD INSTALL --build --library=biobtreeR.buildbin-libdir biobtreeR_1.18.0.tar.gz StartedAt: 2025-02-04 08:02:34 -0500 (Tue, 04 Feb 2025) EndedAt: 2025-02-04 08:02:55 -0500 (Tue, 04 Feb 2025) EllapsedTime: 21.0 seconds RetCode: 0 Status: OK PackageFile: biobtreeR_1.18.0.zip PackageFileSize: 985.4 KiB