Package: biocGraph Version: 1.68.0 Command: /Library/Frameworks/R.framework/Resources/bin/R CMD check --install=check:biocGraph.install-out.txt --library=/Library/Frameworks/R.framework/Resources/library --no-vignettes --timings biocGraph_1.68.0.tar.gz StartedAt: 2025-02-04 00:16:43 -0500 (Tue, 04 Feb 2025) EndedAt: 2025-02-04 00:20:19 -0500 (Tue, 04 Feb 2025) EllapsedTime: 215.8 seconds RetCode: 0 Status: OK CheckDir: biocGraph.Rcheck Warnings: 0