Package: biocGraph Version: 1.68.0 Command: /home/biocbuild/bbs-3.20-bioc/R/bin/R CMD build --keep-empty-dirs --no-resave-data --md5 biocGraph StartedAt: 2025-02-10 16:25:30 -0500 (Mon, 10 Feb 2025) EndedAt: 2025-02-10 16:25:56 -0500 (Mon, 10 Feb 2025) EllapsedTime: 26.0 seconds RetCode: 0 Status: OK PackageFile: biocGraph_1.68.0.tar.gz PackageFileSize: 731.5 KiB