Package: biocGraph Version: 1.68.0 Command: /home/biocbuild/bbs-3.20-bioc/R/bin/R CMD check --install=check:biocGraph.install-out.txt --library=/home/biocbuild/bbs-3.20-bioc/R/site-library --timings biocGraph_1.68.0.tar.gz StartedAt: 2025-02-03 20:24:37 -0500 (Mon, 03 Feb 2025) EndedAt: 2025-02-03 20:26:35 -0500 (Mon, 03 Feb 2025) EllapsedTime: 117.2 seconds RetCode: 0 Status: OK CheckDir: biocGraph.Rcheck Warnings: 0