Package: biocroxytest Version: 1.2.0 Command: /Library/Frameworks/R.framework/Resources/bin/R CMD INSTALL biocroxytest StartedAt: 2025-02-10 15:15:47 -0500 (Mon, 10 Feb 2025) EndedAt: 2025-02-10 15:15:51 -0500 (Mon, 10 Feb 2025) EllapsedTime: 4.3 seconds RetCode: 0 Status: OK